BEGIN:VCALENDAR
VERSION:2.0
PRODID:-//Die Ausflugsgaststätte im Striegistal - ECPv6.15.20//NONSGML v1.0//EN
CALSCALE:GREGORIAN
METHOD:PUBLISH
X-WR-CALNAME:Die Ausflugsgaststätte im Striegistal
X-ORIGINAL-URL:https://xn--waldhaus-kalkbrche-06b.de
X-WR-CALDESC:Veranstaltungen für Die Ausflugsgaststätte im Striegistal
REFRESH-INTERVAL;VALUE=DURATION:PT1H
X-Robots-Tag:noindex
X-PUBLISHED-TTL:PT1H
BEGIN:VTIMEZONE
TZID:Europe/Berlin
BEGIN:DAYLIGHT
TZOFFSETFROM:+0100
TZOFFSETTO:+0200
TZNAME:CEST
DTSTART:20250330T010000
END:DAYLIGHT
BEGIN:STANDARD
TZOFFSETFROM:+0200
TZOFFSETTO:+0100
TZNAME:CET
DTSTART:20251026T010000
END:STANDARD
BEGIN:DAYLIGHT
TZOFFSETFROM:+0100
TZOFFSETTO:+0200
TZNAME:CEST
DTSTART:20260329T010000
END:DAYLIGHT
BEGIN:STANDARD
TZOFFSETFROM:+0200
TZOFFSETTO:+0100
TZNAME:CET
DTSTART:20261025T010000
END:STANDARD
BEGIN:DAYLIGHT
TZOFFSETFROM:+0100
TZOFFSETTO:+0200
TZNAME:CEST
DTSTART:20270328T010000
END:DAYLIGHT
BEGIN:STANDARD
TZOFFSETFROM:+0200
TZOFFSETTO:+0100
TZNAME:CET
DTSTART:20271031T010000
END:STANDARD
END:VTIMEZONE
BEGIN:VEVENT
DTSTART;VALUE=DATE:20260612
DTEND;VALUE=DATE:20260614
DTSTAMP:20260420T083508
CREATED:20231215T122948Z
LAST-MODIFIED:20260115T100856Z
UID:1622-1781222400-1781395199@xn--waldhaus-kalkbrche-06b.de
SUMMARY:Blues im Striegistal
DESCRIPTION:Vorbestellung bitte unter \npaulahnert@t-online.de \nEine kurze Mail schreiben mit\nName\, Datum und Anzahl der Karten. \nDanke
URL:https://xn--waldhaus-kalkbrche-06b.de/veranstaltung/blues-im-striegistal/
ATTACH;FMTTYPE=image/jpeg:https://xn--waldhaus-kalkbrche-06b.de/wp-content/uploads/2021/09/243233996_882549516024956_6637947062378783878_n-e1702643366669.jpg
END:VEVENT
BEGIN:VEVENT
DTSTART;TZID=Europe/Berlin:20260621T140000
DTEND;TZID=Europe/Berlin:20260621T170000
DTSTAMP:20260420T083508
CREATED:20260330T091548Z
LAST-MODIFIED:20260330T091548Z
UID:2335-1782050400-1782061200@xn--waldhaus-kalkbrche-06b.de
SUMMARY:Volksmusik im Striegistal
DESCRIPTION:Mit dabei sind die „Musikfreunde Striegistal“ und ein weiter  Chor.
URL:https://xn--waldhaus-kalkbrche-06b.de/veranstaltung/volksmusik-im-striegistal/
END:VEVENT
END:VCALENDAR