BEGIN:VCALENDAR
VERSION:2.0
PRODID:-//Die Ausflugsgaststätte im Striegistal - ECPv6.15.20//NONSGML v1.0//EN
CALSCALE:GREGORIAN
METHOD:PUBLISH
X-WR-CALNAME:Die Ausflugsgaststätte im Striegistal
X-ORIGINAL-URL:https://xn--waldhaus-kalkbrche-06b.de
X-WR-CALDESC:Veranstaltungen für Die Ausflugsgaststätte im Striegistal
REFRESH-INTERVAL;VALUE=DURATION:PT1H
X-Robots-Tag:noindex
X-PUBLISHED-TTL:PT1H
BEGIN:VTIMEZONE
TZID:Europe/Berlin
BEGIN:DAYLIGHT
TZOFFSETFROM:+0100
TZOFFSETTO:+0200
TZNAME:CEST
DTSTART:20250330T010000
END:DAYLIGHT
BEGIN:STANDARD
TZOFFSETFROM:+0200
TZOFFSETTO:+0100
TZNAME:CET
DTSTART:20251026T010000
END:STANDARD
BEGIN:DAYLIGHT
TZOFFSETFROM:+0100
TZOFFSETTO:+0200
TZNAME:CEST
DTSTART:20260329T010000
END:DAYLIGHT
BEGIN:STANDARD
TZOFFSETFROM:+0200
TZOFFSETTO:+0100
TZNAME:CET
DTSTART:20261025T010000
END:STANDARD
BEGIN:DAYLIGHT
TZOFFSETFROM:+0100
TZOFFSETTO:+0200
TZNAME:CEST
DTSTART:20270328T010000
END:DAYLIGHT
BEGIN:STANDARD
TZOFFSETFROM:+0200
TZOFFSETTO:+0100
TZNAME:CET
DTSTART:20271031T010000
END:STANDARD
END:VTIMEZONE
BEGIN:VEVENT
DTSTART;VALUE=DATE:20260131
DTEND;VALUE=DATE:20260202
DTSTAMP:20260420T083508
CREATED:20230914T075206Z
LAST-MODIFIED:20260115T101110Z
UID:426-1769817600-1769990399@xn--waldhaus-kalkbrche-06b.de
SUMMARY:Schlachtfest
DESCRIPTION:Beginn ab 11 Uhr \nBitte reservieren Sie Ihren Platz telefonisch unter 037207 2315. \n  \nDanke
URL:https://xn--waldhaus-kalkbrche-06b.de/veranstaltung/schlachtfest/
LOCATION:Waldhaus Kalkbrüche\, Kaltofen\, Kalkbrüche 1\, Striegistal\, Sachsen\, 09661\, Deutschland
ATTACH;FMTTYPE=image/jpeg:https://xn--waldhaus-kalkbrche-06b.de/wp-content/uploads/2019/12/Schlachtfest-Daniel-Friesenecker-Pixabay.jpg
ORGANIZER;CN="Waldhaus Kalkbr%C3%BCche%2C Frank Andr%C3%A4":MAILTO:waldhauskalkbrueche@web.de
END:VEVENT
BEGIN:VEVENT
DTSTART;TZID=Europe/Berlin:20260213T180000
DTEND;TZID=Europe/Berlin:20260213T233000
DTSTAMP:20260420T083508
CREATED:20231215T122613Z
LAST-MODIFIED:20260115T101033Z
UID:1619-1771005600-1771025400@xn--waldhaus-kalkbrche-06b.de
SUMMARY:Skatturnier
DESCRIPTION:Skatturnier am 14.02.2025 \nGespielt werden 2 Serien zu je 48 Spielen. \nBeginn ist 18:00 Uhr \n 
URL:https://xn--waldhaus-kalkbrche-06b.de/veranstaltung/skatturnier/
ATTACH;FMTTYPE=image/jpeg:https://xn--waldhaus-kalkbrche-06b.de/wp-content/uploads/2019/12/Skat-Tante-Tati-Pixabay.jpg
END:VEVENT
END:VCALENDAR