BEGIN:VCALENDAR
VERSION:2.0
PRODID:-//Die Ausflugsgaststätte im Striegistal - ECPv6.15.20//NONSGML v1.0//EN
CALSCALE:GREGORIAN
METHOD:PUBLISH
X-ORIGINAL-URL:https://xn--waldhaus-kalkbrche-06b.de
X-WR-CALDESC:Veranstaltungen für Die Ausflugsgaststätte im Striegistal
REFRESH-INTERVAL;VALUE=DURATION:PT1H
X-Robots-Tag:noindex
X-PUBLISHED-TTL:PT1H
BEGIN:VTIMEZONE
TZID:Europe/Berlin
BEGIN:DAYLIGHT
TZOFFSETFROM:+0100
TZOFFSETTO:+0200
TZNAME:CEST
DTSTART:20250330T010000
END:DAYLIGHT
BEGIN:STANDARD
TZOFFSETFROM:+0200
TZOFFSETTO:+0100
TZNAME:CET
DTSTART:20251026T010000
END:STANDARD
BEGIN:DAYLIGHT
TZOFFSETFROM:+0100
TZOFFSETTO:+0200
TZNAME:CEST
DTSTART:20260329T010000
END:DAYLIGHT
BEGIN:STANDARD
TZOFFSETFROM:+0200
TZOFFSETTO:+0100
TZNAME:CET
DTSTART:20261025T010000
END:STANDARD
BEGIN:DAYLIGHT
TZOFFSETFROM:+0100
TZOFFSETTO:+0200
TZNAME:CEST
DTSTART:20270328T010000
END:DAYLIGHT
BEGIN:STANDARD
TZOFFSETFROM:+0200
TZOFFSETTO:+0100
TZNAME:CET
DTSTART:20271031T010000
END:STANDARD
END:VTIMEZONE
BEGIN:VEVENT
DTSTART;TZID=Europe/Berlin:20260517T140000
DTEND;TZID=Europe/Berlin:20260517T163000
DTSTAMP:20260420T083549
CREATED:20220513T080040Z
LAST-MODIFIED:20260115T101002Z
UID:439-1779026400-1779035400@xn--waldhaus-kalkbrche-06b.de
SUMMARY:Öffentlicher Waldgottesdienst
DESCRIPTION:Herzliche Einladung zum öffentlichen Waldgottesdienst am Waldhaus Kalkbrüche (Striegistal OT Kaltofen)  \n 
URL:https://xn--waldhaus-kalkbrche-06b.de/veranstaltung/oeffentlicher-waldgottesdienst/
LOCATION:Waldhaus Kalkbrüche\, Kaltofen\, Kalkbrüche 1\, Striegistal\, Sachsen\, 09661\, Deutschland
ATTACH;FMTTYPE=image/jpeg:https://xn--waldhaus-kalkbrche-06b.de/wp-content/uploads/2019/12/190602_Waldgottesdienst-Striegistal_01.jpg
END:VEVENT
END:VCALENDAR